BEGIN:VCALENDAR
VERSION:2.0
PRODID:-//SportPlan//Event Calendar//EN
CALSCALE:GREGORIAN
BEGIN:VEVENT
UID:883fbba2-788e-45b7-845e-a04dea25c7af@sportplan.local
DTSTAMP:20260420T203834Z
DTSTART;VALUE=DATE:20260927
DTEND;VALUE=DATE:20260928
SUMMARY:BMW BERLIN-MARATHON 2026
DESCRIPTION:verified official event site via web_fetch
LOCATION:Berlin\, Germany
URL:https://sportplan.vercel.app/de/events/bmw-berlin-marathon-2026-2026-09-27
END:VEVENT
END:VCALENDAR
