BEGIN:VCALENDAR
VERSION:2.0
PRODID:-//SportPlan//Event Calendar//EN
CALSCALE:GREGORIAN
BEGIN:VEVENT
UID:bd52811b-1766-4d9a-8e8f-51da907553b5@sportplan.local
DTSTAMP:20260420T204312Z
DTSTART;VALUE=DATE:20260503
DTEND;VALUE=DATE:20260504
SUMMARY:BMO Vancouver Marathon (official event site)
DESCRIPTION:Official BMO Vancouver Marathon event website\; stable recurring annual URL\; Marathon + Half Marathon + 8KM + Kids Run categories\; 2026 edition at capacity
LOCATION:Vancouver\, BC\, Canada
URL:https://sportplan.vercel.app/de/events/bmo-vancouver-marathon-official-event-site-2026-05-03
END:VEVENT
END:VCALENDAR
