BEGIN:VCALENDAR
VERSION:2.0
PRODID:-//SportPlan//Event Calendar//EN
CALSCALE:GREGORIAN
BEGIN:VEVENT
UID:51e6c4e8-e80e-47a8-87df-830183cbb0e9@sportplan.local
DTSTAMP:20260420T190910Z
DTSTART;VALUE=DATE:20260503
DTEND;VALUE=DATE:20260504
SUMMARY:BMO Vancouver Marathon
DESCRIPTION:discovered via official RUNVAN 2026 races page\; one of world's top destination marathons (Forbes\, CNN\, USA Today)\; Marathon + Half Marathon + 8KM + Kids Run\; annually first Sunday of May
LOCATION:Vancouver\, BC\, Canada
URL:https://sportplan.vercel.app/de/events/bmo-vancouver-marathon-2026-05-03
END:VEVENT
END:VCALENDAR
