BEGIN:VCALENDAR
VERSION:2.0
PRODID:-//SportPlan//Event Calendar//EN
CALSCALE:GREGORIAN
BEGIN:VEVENT
UID:03ee112f-1942-43fc-a26a-ec7bff820d88@sportplan.local
DTSTAMP:20260420T203503Z
DTSTART;VALUE=DATE:20260426
DTEND;VALUE=DATE:20260427
SUMMARY:Bludenz-Läuft
DESCRIPTION:Bludenz-Läuft findet am 26. April 2026 in Bludenz statt. Die Veranstaltung ist eine attraktive Option für Teilnehmende\, die ein gut organisiertes Event in angenehmer Umgebung suchen. Aktuelle Informationen zu Startzeiten\, Startunterlagen und Logistik finden Sie beim offiziellen Veranstalter.
LOCATION:Bludenz
URL:https://sportplan.vercel.app/de/events/bludenz-lauft-bludenz-2026-04-26
END:VEVENT
END:VCALENDAR
