BEGIN:VCALENDAR
VERSION:2.0
PRODID:-//SportPlan//Event Calendar//EN
CALSCALE:GREGORIAN
BEGIN:VEVENT
UID:f2977322-e60f-48f0-b6d2-57f801e10f13@sportplan.local
DTSTAMP:20260421T011003Z
DTSTART;VALUE=DATE:20260613
DTEND;VALUE=DATE:20260614
SUMMARY:Birken AKTIV Against Cancer Run 7.5 km 2026
DESCRIPTION:Birken AKTIV Against Cancer Run 7.5 km 2026 is an official amateur trail running event in Lillehammer\, Norway on 13 June 2026. The official Birken page describes a 7.5 km route from Birkebeineren Ski Stadium to Håkons Hall in accessible terrain\, and says participants aged 13 to 15 can join without timing while ages 16 and older can race with optional timing.
LOCATION:Birkebeineren Ski Stadium to Håkons Hall\, Lillehammer
URL:https://sportplan.vercel.app/de/events/birken-aktiv-against-cancer-run-7-5-km-2026-2026-06-13
END:VEVENT
END:VCALENDAR
