BEGIN:VCALENDAR
VERSION:2.0
PRODID:-//SportPlan//Event Calendar//EN
CALSCALE:GREGORIAN
BEGIN:VEVENT
UID:af90e41f-9860-4614-a8fb-8e0e3ed459e9@sportplan.local
DTSTAMP:20260421T010437Z
DTSTART;VALUE=DATE:20260829
DTEND;VALUE=DATE:20260830
SUMMARY:Birkebeinerrittet 84 km 2026
DESCRIPTION:Birkebeinerrittet 84 km 2026 is an official amateur mountain bike race from Rena to Lillehammer\, Norway on 29 August 2026. The official Birken page describes Norway's largest mountain bike race with an 84 km course and approximately 1\,200 to 1\,300 metres of climbing\, and states that participants aged 17 and older can take part.
LOCATION:Rena to Lillehammer
URL:https://sportplan.vercel.app/de/events/birkebeinerrittet-84-km-2026-2026-08-29
END:VEVENT
END:VCALENDAR
