BEGIN:VCALENDAR
VERSION:2.0
PRODID:-//SportPlan//Event Calendar//EN
CALSCALE:GREGORIAN
BEGIN:VEVENT
UID:ee7b015a-9985-4253-8c50-e27d82b67fbd@sportplan.local
DTSTAMP:20260420T191606Z
DTSTART;VALUE=DATE:20260927
DTEND;VALUE=DATE:20260928
SUMMARY:Berlin Marathon 2026
DESCRIPTION:Berlin Marathon 2026 findet am 27 September 2026 in Berlin\, Berlin statt und bietet eine sportliche Veranstaltung mit motivierender Atmosphäre und guter Organisation. Mit einer Distanz von 42.2 km ist das Event ideal\, um sich ein klares Ziel zu setzen\, die Umgebung zu genießen und vom Start bis ins Ziel Rennstimmung zu erleben.
LOCATION:Berlin\, Berlin
URL:https://sportplan.vercel.app/de/events/berlin-marathon-2026-berlin-2026-09-27
END:VEVENT
END:VCALENDAR
