BEGIN:VCALENDAR
VERSION:2.0
PRODID:-//SportPlan//Event Calendar//EN
CALSCALE:GREGORIAN
BEGIN:VEVENT
UID:5969748e-563a-447e-833d-a27af5ad6dc8@sportplan.local
DTSTAMP:20260420T191542Z
DTSTART;VALUE=DATE:20260424
DTEND;VALUE=DATE:20260425
SUMMARY:BC Backyard Ultra
DESCRIPTION:BC Backyard Ultra takes place in Sicamous on April 24\, 2026. It offers a great chance to enjoy a memorable day of running\, with race-day energy and a course that can appeal to a wide range of runners. Whether the goal is a strong result or simply soaking up the event atmosphere\, runners can expect an engaging experience from start to finish.
LOCATION:Sicamous
URL:https://sportplan.vercel.app/de/events/bc-backyard-ultra-sicamous-2026-04-24
END:VEVENT
END:VCALENDAR
