BEGIN:VCALENDAR
VERSION:2.0
PRODID:-//SportPlan//Event Calendar//EN
CALSCALE:GREGORIAN
BEGIN:VEVENT
UID:987a366f-bb00-47c0-915a-34af51cad372@sportplan.local
DTSTAMP:20260421T010529Z
DTSTART;VALUE=DATE:20260613
DTEND;VALUE=DATE:20260614
SUMMARY:BarneBirken Run 2026
DESCRIPTION:BarneBirken Run 2026 is an official amateur participation kids running event in Lillehammer\, Norway on 13 June 2026. The official Birken page states that it is open to children aged 0 to 11\, with no timing\, easy age-adapted courses\, and medals and diplomas for all finishers\, with race-day activity centered around Stampesletta and Håkons Hall.
LOCATION:Stampesletta and Håkons Hall\, Lillehammer
URL:https://sportplan.vercel.app/de/events/barnebirken-run-2026-lillehammer-2026-06-13
END:VEVENT
END:VCALENDAR
