BEGIN:VCALENDAR
VERSION:2.0
PRODID:-//SportPlan//Event Calendar//EN
CALSCALE:GREGORIAN
BEGIN:VEVENT
UID:8fda908d-62c7-4085-a685-8f521fd24859@sportplan.local
DTSTAMP:20260421T035153Z
DTSTART;VALUE=DATE:20261101
DTEND;VALUE=DATE:20261102
SUMMARY:Barfoot & Thompson Auckland Marathon
DESCRIPTION:discovered via Brave web_search on direct World's Marathons New Zealand running event pages\; NZ had only 2 queue entries before this run and was selected to expand standalone New Zealand coverage
LOCATION:New Zealand
URL:https://sportplan.vercel.app/de/events/barfoot-thompson-auckland-marathon-2026-11-01
END:VEVENT
END:VCALENDAR
