BEGIN:VCALENDAR
VERSION:2.0
PRODID:-//SportPlan//Event Calendar//EN
CALSCALE:GREGORIAN
BEGIN:VEVENT
UID:16dbfa4b-4529-4cbd-8bc3-31795a08ed8c@sportplan.local
DTSTAMP:20260420T221437Z
DTSTART;VALUE=DATE:20260614
DTEND;VALUE=DATE:20260615
SUMMARY:Banff Half Marathon & 10K
DESCRIPTION:discovered via Brave web_search on direct World's Marathons Canada running event pages\; Canada was the lowest-count country in the current priority list.
LOCATION:Banff\, Canada
URL:https://sportplan.vercel.app/de/events/banff-half-marathon-10k-2026-06-14
END:VEVENT
END:VCALENDAR
