BEGIN:VCALENDAR
VERSION:2.0
PRODID:-//SportPlan//Event Calendar//EN
CALSCALE:GREGORIAN
BEGIN:VEVENT
UID:2f44c60f-bf0c-4504-b0b7-8b4df4165fca@sportplan.local
DTSTAMP:20260420T191540Z
DTSTART;VALUE=DATE:20260517
DTEND;VALUE=DATE:20260518
SUMMARY:Bandoeng 10K
DESCRIPTION:Official bank bjb Bandoeng 10K event site. Point-to-point city 10K in Bandung\, scheduled for 17 May 2026 with start at Bank BJB Braga Office and finish at Balai Kota Bandung.
LOCATION:Bandung\, West Java\, Indonesia
URL:https://sportplan.vercel.app/de/events/bandoeng-10k-2026-05-17
END:VEVENT
END:VCALENDAR
