BEGIN:VCALENDAR
VERSION:2.0
PRODID:-//SportPlan//Event Calendar//EN
CALSCALE:GREGORIAN
BEGIN:VEVENT
UID:eee8a2eb-1717-40cd-b50d-24d61a70783c@sportplan.local
DTSTAMP:20260420T204252Z
DTSTART;VALUE=DATE:20260426
DTEND;VALUE=DATE:20260427
SUMMARY:Baloise Antwerp 10 Miles
DESCRIPTION:Baloise Antwerp 10 Miles a lieu le 26 de avril de 2026 à Amberes. C'est un rendez-vous intéressant pour les participants à la recherche d'un événement bien organisé dans un cadre agréable. Consultez les informations officielles de l'organisateur pour les horaires\, le retrait des dossards et les détails logistiques.
LOCATION:Amberes
URL:https://sportplan.vercel.app/de/events/baloise-antwerp-10-miles-amberes-2026-04-26
END:VEVENT
END:VCALENDAR
