BEGIN:VCALENDAR
VERSION:2.0
PRODID:-//SportPlan//Event Calendar//EN
CALSCALE:GREGORIAN
BEGIN:VEVENT
UID:48e5eb6b-482f-4e73-80fb-b14def4d5d2b@sportplan.local
DTSTAMP:20260421T001156Z
DTSTART;VALUE=DATE:20261011
DTEND;VALUE=DATE:20261012
SUMMARY:Ascona-Locarno Marathon
DESCRIPTION:discovered via World's Marathons sitemap and validated on direct event page\; Tier 2 underrepresented-country rotation (CH)
LOCATION:Locarno / Ascona\, Switzerland
URL:https://sportplan.vercel.app/de/events/ascona-locarno-marathon-2026-10-11
END:VEVENT
END:VCALENDAR
