BEGIN:VCALENDAR
VERSION:2.0
PRODID:-//SportPlan//Event Calendar//EN
CALSCALE:GREGORIAN
BEGIN:VEVENT
UID:02baf847-7b6a-48f3-aaf4-bb52a94ec84d@sportplan.local
DTSTAMP:20260420T191905Z
DTSTART;VALUE=DATE:20261026
DTEND;VALUE=DATE:20261027
SUMMARY:Arrankudiaga-Zollo Trail Lasterketa
DESCRIPTION:Arrankudiaga-Zollo Trail Lasterketa se celebrará el 26 de octubre de 2026 en Arrankudiaga\, Vizcaya\, País Vasco. Es una buena cita para quienes quieren vivir el ambiente del evento en directo y planificar la jornada con antelación. La sede prevista está a unos 16 km\, así que conviene revisar accesos\, horarios y servicios antes de salir.
LOCATION:Arrankudiaga\, Vizcaya\, País Vasco
URL:https://sportplan.vercel.app/de/events/arrankudiaga-zollo-trail-lasterketa-arrankudiaga-2026-10-26-16k
END:VEVENT
END:VCALENDAR
