BEGIN:VCALENDAR
VERSION:2.0
PRODID:-//SportPlan//Event Calendar//EN
CALSCALE:GREGORIAN
BEGIN:VEVENT
UID:bb1932c9-29d7-4c00-b0d2-33e7b4127332@sportplan.local
DTSTAMP:20260420T191639Z
DTSTART;VALUE=DATE:20260501
DTEND;VALUE=DATE:20260502
SUMMARY:Andarines
DESCRIPTION:Andarines se celebrará el 1 de mayo de 2026 en Cubillas de Arbas\, León\, Castilla y León. Es una buena opción para quienes buscan sumar una experiencia deportiva bien organizada sobre una distancia de unos 7.5 km. Ideal tanto para participantes habituales como para quienes quieren marcarse un nuevo reto en el calendario.
LOCATION:Cubillas de Arbas\, León\, Castilla y León
URL:https://sportplan.vercel.app/de/events/andarines-cubillas-de-arbas-2026-05-01-7-5k
END:VEVENT
END:VCALENDAR
