BEGIN:VCALENDAR
VERSION:2.0
PRODID:-//SportPlan//Event Calendar//EN
CALSCALE:GREGORIAN
BEGIN:VEVENT
UID:7de648f1-6981-4863-b4a8-62541d185083@sportplan.local
DTSTAMP:20260420T204721Z
DTSTART;VALUE=DATE:20260523
DTEND;VALUE=DATE:20260524
SUMMARY:Alpen Adria Swim Cup - Klopeiner See
DESCRIPTION:Alpen Adria Swim Cup - Klopeiner See findet am 23 Mai 2026 in Bad Heilbrunn statt. Die Veranstaltung bietet eine starke Atmosphäre und eine gute Gelegenheit\, das Erlebnis mit anderen Teilnehmenden zu teilen. Eine gute Wahl für alle\, die sich ein klares Saisonziel setzen und einen sportlichen Tag in besonderer Umgebung erleben möchten.
LOCATION:Bad Heilbrunn
URL:https://sportplan.vercel.app/de/events/alpen-adria-swim-cup-klopeiner-see-bad-heilbrunn-2026-05-23
END:VEVENT
END:VCALENDAR
