BEGIN:VCALENDAR
VERSION:2.0
PRODID:-//SportPlan//Event Calendar//EN
CALSCALE:GREGORIAN
BEGIN:VEVENT
UID:bf47d6a4-b420-4414-aa7e-eebbe2ea83a2@sportplan.local
DTSTAMP:20260420T222257Z
DTSTART;VALUE=DATE:20261013
DTEND;VALUE=DATE:20261014
SUMMARY:Adrada Trail - 8K
DESCRIPTION:Adrada Trail - 8K se celebra el 13 de octubre de 2026 en La Adrada\, Ávila\, Castilla y León. Es una cita ideal para quienes buscan un recorrido bien señalizado y un gran ambiente de carrera\, con un recorrido de 8 km. Perfecta tanto para competir a buen ritmo como para disfrutar de la experiencia y del entorno del evento.
LOCATION:La Adrada\, Ávila\, Castilla y León
URL:https://sportplan.vercel.app/de/events/adrada-trail-8k-la-adrada-2026-10-13-8k
END:VEVENT
END:VCALENDAR
