BEGIN:VCALENDAR
VERSION:2.0
PRODID:-//SportPlan//Event Calendar//EN
CALSCALE:GREGORIAN
BEGIN:VEVENT
UID:dca474db-5104-4a61-bdcc-7d06711d9e02@sportplan.local
DTSTAMP:20260420T222318Z
DTSTART;VALUE=DATE:20261013
DTEND;VALUE=DATE:20261014
SUMMARY:Adrada Trail - 13K
DESCRIPTION:Adrada Trail - 13K se celebra el 13 de octubre de 2026 en La Adrada\, Ávila\, Castilla y León. Es una cita ideal para quienes buscan un recorrido bien señalizado y un gran ambiente de carrera\, con un recorrido de 13 km. Perfecta tanto para competir a buen ritmo como para disfrutar de la experiencia y del entorno del evento.
LOCATION:La Adrada\, Ávila\, Castilla y León
URL:https://sportplan.vercel.app/de/events/adrada-trail-13k-la-adrada-2026-10-13-13k
END:VEVENT
END:VCALENDAR
