BEGIN:VCALENDAR
VERSION:2.0
PRODID:-//SportPlan//Event Calendar//EN
CALSCALE:GREGORIAN
BEGIN:VEVENT
UID:a3279383-71a2-4e3c-bd53-95a04115f931@sportplan.local
DTSTAMP:20260420T233603Z
DTSTART;VALUE=DATE:20260425
DTEND;VALUE=DATE:20260426
SUMMARY:adidas Premiärhalvan 2026
DESCRIPTION:Official Stockholm Marathon event page for adidas Premiärhalvan on 25 April 2026 in Stockholm. The organizer describes it as a half marathon on southern Djurgården and a mass-participation spring race open to thousands of runners.
LOCATION:Stockholm\, Sweden
URL:https://sportplan.vercel.app/de/events/adidas-premiarhalvan-2026-04-25
END:VEVENT
END:VCALENDAR
