BEGIN:VCALENDAR
VERSION:2.0
PRODID:-//SportPlan//Event Calendar//EN
CALSCALE:GREGORIAN
BEGIN:VEVENT
UID:ebe1624e-79fe-48ee-8e24-280dad1f8ea5@sportplan.local
DTSTAMP:20260420T190624Z
DTSTART;VALUE=DATE:20260503
DTEND;VALUE=DATE:20260504
SUMMARY:Adelaide Marathon
DESCRIPTION:Discovered via RunCalendar Australia marathons listing.
LOCATION:Adelaide Oval\, SA\, Australia
URL:https://sportplan.vercel.app/de/events/adelaide-marathon-2026-05-03
END:VEVENT
END:VCALENDAR
