BEGIN:VCALENDAR
VERSION:2.0
PRODID:-//SportPlan//Event Calendar//EN
CALSCALE:GREGORIAN
BEGIN:VEVENT
UID:256121cf-9430-4c8c-96a9-0d6da6509686@sportplan.local
DTSTAMP:20260420T204225Z
DTSTART;VALUE=DATE:20260426
DTEND;VALUE=DATE:20260427
SUMMARY:A Coventry Way Challenge
DESCRIPTION:
LOCATION:Meriden
URL:https://sportplan.vercel.app/de/events/a-coventry-way-challenge-meriden-2026-04-26
END:VEVENT
END:VCALENDAR
