BEGIN:VCALENDAR
VERSION:2.0
PRODID:-//SportPlan//Event Calendar//EN
CALSCALE:GREGORIAN
BEGIN:VEVENT
UID:0c5894a8-57ad-4c1c-8bb3-57f3ae1a5241@sportplan.local
DTSTAMP:20260420T192059Z
DTSTART;VALUE=DATE:20260712
DTEND;VALUE=DATE:20260713
SUMMARY:6ta Fecha Campeonato Nacional de 10K Ruta Ciudad de Santiago del Estero
DESCRIPTION:official World Athletics calendar query URL\; Argentina road-running rotation\; standalone event page not exposed in source HTML\, so using unique filtered calendar URL
LOCATION:Circuito La Ciudad Corre\, Santiago del Estero (ARG)
URL:https://sportplan.vercel.app/de/events/6ta-fecha-campeonato-nacional-de-10k-ruta-ciudad-de-santiago-del-estero-2026-07-12
END:VEVENT
END:VCALENDAR
