BEGIN:VCALENDAR
VERSION:2.0
PRODID:-//SportPlan//Event Calendar//EN
CALSCALE:GREGORIAN
BEGIN:VEVENT
UID:4446bb1b-bbfd-41d3-a352-14ceea1efd3a@sportplan.local
DTSTAMP:20260420T161040Z
DTSTART;VALUE=DATE:20260308
DTEND;VALUE=DATE:20260309
SUMMARY:5150 Guimaras
DESCRIPTION:5150 Guimaras is an official short-course triathlon in Guimaras\, Philippines on 8 March 2026. The official IRONMAN race page provides registration\, course\, schedule\, and host-city sections for the event.
LOCATION:Guimaras\, Philippines
URL:https://sportplan.vercel.app/de/events/5150-guimaras-2026-guimaras-2026-03-08
END:VEVENT
END:VCALENDAR
