BEGIN:VCALENDAR
VERSION:2.0
PRODID:-//SportPlan//Event Calendar//EN
CALSCALE:GREGORIAN
BEGIN:VEVENT
UID:af3bda22-bd80-458d-ba33-f1aff237baa0@sportplan.local
DTSTAMP:20260420T204313Z
DTSTART;VALUE=DATE:20260906
DTEND;VALUE=DATE:20260907
SUMMARY:5150 Cartagena
DESCRIPTION:5150 Cartagena se celebra en Cartagena\, Colombia el 6 de septiembre de 2026\, reuniendo a los participantes para una jornada deportiva con gran ambiente. Se espera una experiencia bien organizada\, un pelotón motivado y una excelente atmósfera el día del evento.
LOCATION:Cartagena\, Colombia
URL:https://sportplan.vercel.app/de/events/5150-cartagena-2026-09-06
END:VEVENT
END:VCALENDAR
