BEGIN:VCALENDAR
VERSION:2.0
PRODID:-//SportPlan//Event Calendar//EN
CALSCALE:GREGORIAN
BEGIN:VEVENT
UID:bbb6991f-141d-4e47-aa4d-32eb55c4b3b3@sportplan.local
DTSTAMP:20260420T204437Z
DTSTART;VALUE=DATE:20261011
DTEND;VALUE=DATE:20261012
SUMMARY:34. Zagrebački maraton (Zagreb Marathon)
DESCRIPTION:Official Zagreb Marathon site for the 34th edition on 11 October 2026 in central Zagreb. The organizer states that the start and finish of all races are at Ban Josip Jelačić Square and highlights the event weekend\, participant information and associated World Veterans Marathon Championship programming.
LOCATION:Zagreb\, Croatia
URL:https://sportplan.vercel.app/de/events/34-zagrebacki-maraton-zagreb-marathon-2026-10-11
END:VEVENT
END:VCALENDAR
