BEGIN:VCALENDAR
VERSION:2.0
PRODID:-//SportPlan//Event Calendar//EN
CALSCALE:GREGORIAN
BEGIN:VEVENT
UID:88cb6260-70a9-448c-908b-29cec2b1d272@sportplan.local
DTSTAMP:20260420T191915Z
DTSTART;VALUE=DATE:20260624
DTEND;VALUE=DATE:20260625
SUMMARY:31a Pujada a l'Ermita de San Joan
DESCRIPTION:
LOCATION:Montblanc\, Tarragona\, Cataluña
URL:https://sportplan.vercel.app/de/events/31a-pujada-a-l-ermita-de-san-joan-montblanc-2026-06-24-7-2k
END:VEVENT
END:VCALENDAR
