BEGIN:VCALENDAR
VERSION:2.0
PRODID:-//SportPlan//Event Calendar//EN
CALSCALE:GREGORIAN
BEGIN:VEVENT
UID:4298b086-b73f-4138-b837-113d04afda8d@sportplan.local
DTSTAMP:20260420T204404Z
DTSTART;VALUE=DATE:20260823
DTEND;VALUE=DATE:20260824
SUMMARY:3 Disciplini Triathlon Struga 2026
DESCRIPTION:3 Disciplini Triathlon Struga 2026 is an official amateur triathlon in Struga\, North Macedonia on 23 August 2026. The Triathlon Federation of North Macedonia's 2026 race calendar lists it as the national championship sprint triathlon\, with the published open-distance format of 750 m swim\, 20 km bike\, and 5 km run.
LOCATION:Struga
URL:https://sportplan.vercel.app/de/events/3-disciplini-triathlon-struga-2026-2026-08-23
END:VEVENT
END:VCALENDAR
