BEGIN:VCALENDAR
VERSION:2.0
PRODID:-//SportPlan//Event Calendar//EN
CALSCALE:GREGORIAN
BEGIN:VEVENT
UID:1a5dae23-df0e-449e-9ede-645bbc1a1f70@sportplan.local
DTSTAMP:20260420T204401Z
DTSTART;VALUE=DATE:20260705
DTEND;VALUE=DATE:20260706
SUMMARY:2kv Collarada
DESCRIPTION:2kv Collarada se celebrará el 5 de julio de 2026 en Villanua\, Huesca\, Aragón. Es una buena cita para participantes que buscan una experiencia deportiva bien organizada y un ambiente motivador. El recorrido cubre aproximadamente 17 km. Consulta la información oficial del evento para conocer horarios\, recorridos y detalles logísticos.
LOCATION:Villanua\, Huesca\, Aragón
URL:https://sportplan.vercel.app/de/events/2kv-collarada-villanua-2026-07-05-17k
END:VEVENT
END:VCALENDAR
