BEGIN:VCALENDAR
VERSION:2.0
PRODID:-//SportPlan//Event Calendar//EN
CALSCALE:GREGORIAN
BEGIN:VEVENT
UID:3afc9070-1f65-4908-82f1-bd795b9ce8f6@sportplan.local
DTSTAMP:20260420T203656Z
DTSTART;VALUE=DATE:20260924
DTEND;VALUE=DATE:20260925
SUMMARY:20th Asian Games
DESCRIPTION:20th Asian Gamesは2026年9月24日にMunicipal Mizuho Stadium\, Nagoya (JPN)で開催され、参加者に向けて整った運営と前向きな雰囲気が期待できるイベントです。 景色を楽しみながら、ほかの参加者と特別な時間を共有し、大会ならではの熱気を味わえる一日になりそうです。
LOCATION:Municipal Mizuho Stadium\, Nagoya (JPN)
URL:https://sportplan.vercel.app/de/events/20th-asian-games-2026-09-24
END:VEVENT
END:VCALENDAR
