BEGIN:VCALENDAR
VERSION:2.0
PRODID:-//SportPlan//Event Calendar//EN
CALSCALE:GREGORIAN
BEGIN:VEVENT
UID:423714a1-b461-4efe-8f65-77958da50d76@sportplan.local
DTSTAMP:20260420T173930Z
DTSTART;VALUE=DATE:20261012
DTEND;VALUE=DATE:20261013
SUMMARY:20km de Paris 2026
DESCRIPTION:20km de Paris 2026 aura lieu le 12 octobre 2026 à Paris\, Paris. C'est un rendez-vous idéal pour les participants en quête d'une organisation solide et d'une belle ambiance de course\, avec un parcours de 20 km. Une épreuve pensée autant pour viser la performance que pour profiter pleinement de l'expérience sur place.
LOCATION:Paris\, Paris
URL:https://sportplan.vercel.app/de/events/20km-de-paris-2026-paris-2026-10-12
END:VEVENT
END:VCALENDAR
