BEGIN:VCALENDAR
VERSION:2.0
PRODID:-//SportPlan//Event Calendar//EN
CALSCALE:GREGORIAN
BEGIN:VEVENT
UID:109e7e84-2e90-48a6-b1ff-74a44a4904a1@sportplan.local
DTSTAMP:20260420T173931Z
DTSTART;VALUE=DATE:20261011
DTEND;VALUE=DATE:20261012
SUMMARY:20km de Paris 2026
DESCRIPTION:20km de Paris 2026 aura lieu à Paris\, Île-de-France le 11 octobre 2026. C’est un rendez-vous sportif attractif pour les participants à la recherche d’une organisation soignée et d’un parcours de 20 km. Idéal pour viser la performance\, relever un nouveau défi ou simplement profiter de l’énergie de l’événement.
LOCATION:Paris\, Île-de-France
URL:https://sportplan.vercel.app/de/events/20km-de-paris-2026-paris-2026-10-11
END:VEVENT
END:VCALENDAR
