BEGIN:VCALENDAR
VERSION:2.0
PRODID:-//SportPlan//Event Calendar//EN
CALSCALE:GREGORIAN
BEGIN:VEVENT
UID:1890d330-6529-46cf-87ef-50c7fb9003ee@sportplan.local
DTSTAMP:20260420T192033Z
DTSTART;VALUE=DATE:20260606
DTEND;VALUE=DATE:20260607
SUMMARY:11TRI Srebrno Jezero Triathlon 2026
DESCRIPTION:11TRI Srebrno Jezero Triathlon 2026 is an official amateur triathlon event in Veliko Gradište\, Serbia on 6 June 2026. The official Serbian Triathlon Federation event page links to the official 11TRI event page and registration\, and the official 11TRI race information confirms Srebrno Jezero as venue plus open Olympic and sprint races\, relay options\, youth formats\, age-group categories\, and online registration for regular participants.
LOCATION:Srebrno Jezero\, Veliko Gradište
URL:https://sportplan.vercel.app/de/events/11tri-srebrno-jezero-triathlon-veliko-gradiste-2026-06-06
END:VEVENT
END:VCALENDAR
