BEGIN:VCALENDAR
VERSION:2.0
PRODID:-//SportPlan//Event Calendar//EN
CALSCALE:GREGORIAN
BEGIN:VEVENT
UID:a4fa10a8-e15b-4dd9-af0f-eafdb403bcde@sportplan.local
DTSTAMP:20260420T204717Z
DTSTART;VALUE=DATE:20261103
DTEND;VALUE=DATE:20261104
SUMMARY:10a Pujada a la Penya Migjorn
DESCRIPTION:10a Pujada a la Penya Migjorn se celebrará el 2026-11-03 en Xixona\, Alacant\, Valencia. El recorrido cubre aproximadamente 22 km\, ofreciendo una cita atractiva tanto para participantes que buscan un nuevo reto como para quienes quieren disfrutar del ambiente del evento. Ideal para sumar una nueva experiencia al calendario y disfrutar de una jornada activa en un entorno especial.
LOCATION:Xixona\, Alacant\, Valencia
URL:https://sportplan.vercel.app/de/events/10a-pujada-a-la-penya-migjorn-xixona-2026-11-03-22k
END:VEVENT
END:VCALENDAR
