BEGIN:VCALENDAR
VERSION:2.0
PRODID:-//SportPlan//Event Calendar//EN
CALSCALE:GREGORIAN
BEGIN:VEVENT
UID:d5eee884-96ee-45b5-95bc-eebc3a7fd5be@sportplan.local
DTSTAMP:20260420T191723Z
DTSTART;VALUE=DATE:20260705
DTEND;VALUE=DATE:20260706
SUMMARY:10 van Noordwijk
DESCRIPTION:10 van Noordwijk vindt plaats op 5 juli 2026 in Noordwijk. Dit is een interessante keuze voor deelnemers die op zoek zijn naar een goed georganiseerd sportevenement en een motiverende sfeer. Bekijk de officiële evenementinformatie voor starttijden\, parcours en praktische details.
LOCATION:Noordwijk
URL:https://sportplan.vercel.app/de/events/10-van-noordwijk-noordwijk-2026-07-05
END:VEVENT
END:VCALENDAR
