BEGIN:VCALENDAR
VERSION:2.0
PRODID:-//SportPlan//Event Calendar//EN
CALSCALE:GREGORIAN
BEGIN:VEVENT
UID:698e4d51-5812-40e1-95b3-ea841bfe608a@sportplan.local
DTSTAMP:20260421T010431Z
DTSTART;VALUE=DATE:20261011
DTEND;VALUE=DATE:20261012
SUMMARY:10 Km de Romans
DESCRIPTION:10 Km de Romans aura lieu le 11 octobre 2026 à Romans-sur-Isère. C'est un rendez-vous idéal pour les participants en quête d'une organisation solide et d'une belle ambiance de course. Une épreuve pensée autant pour viser la performance que pour profiter pleinement de l'expérience sur place.
LOCATION:Romans-sur-Isère
URL:https://sportplan.vercel.app/de/events/10-km-de-romans-romans-sur-isere-2026-10-11
END:VEVENT
END:VCALENDAR
