BEGIN:VCALENDAR
VERSION:2.0
PRODID:-//SportPlan//Event Calendar//EN
CALSCALE:GREGORIAN
BEGIN:VEVENT
UID:13f0a7d5-4146-4aaf-ae82-2454930bc76c@sportplan.local
DTSTAMP:20260425T195029Z
DTSTART;VALUE=DATE:20260124
DTEND;VALUE=DATE:20260125
SUMMARY:Zebbug 5K
DESCRIPTION:Zebbug 5K is a public amateur 5 km road race in Żebbuġ\, Malta\, scheduled for 24 January 2026 and listed on the official Athletics Malta 2026 Road Running Calendar.
LOCATION:Żebbuġ\, Malta
URL:https://sportplan.vercel.app/da/events/zebbug-5k-zebbug-2026-01-24
END:VEVENT
END:VCALENDAR
