BEGIN:VCALENDAR
VERSION:2.0
PRODID:-//SportPlan//Event Calendar//EN
CALSCALE:GREGORIAN
BEGIN:VEVENT
UID:49ca7695-0da6-4244-a895-9697639d8f08@sportplan.local
DTSTAMP:20260425T232238Z
DTSTART;VALUE=DATE:20260425
DTEND;VALUE=DATE:20260426
SUMMARY:XXI Camiñada de Montaña de Entrimo — Ruta 50km 50K
DESCRIPTION:XXI Camiñada de Montaña de Entrimo — Ruta 50km 50K se celebra el 25 de abril de 2026 en Entrimo\, Ourense\, con salida en la Praza do Concello de Entrimo. La página oficial de Deportes Deputación de Ourense y la ficha federativa de la Federación Galega de Montañismo sitúan esta edición dentro del calendario oficial 2026 y confirman la ruta de 50 km como parte del evento organizado por el Concello de Entrimo.
LOCATION:Entrimo
URL:https://sportplan.vercel.app/da/events/xxi-caminada-de-montana-de-entrimo-ruta-50km-50k-entrimo-2026-04-25
END:VEVENT
END:VCALENDAR
