BEGIN:VCALENDAR
VERSION:2.0
PRODID:-//SportPlan//Event Calendar//EN
CALSCALE:GREGORIAN
BEGIN:VEVENT
UID:3132ba11-2ed2-4802-b8f1-1f45aef0ad9f@sportplan.local
DTSTAMP:20260425T234113Z
DTSTART;VALUE=DATE:20260829
DTEND;VALUE=DATE:20260830
SUMMARY:XV. Ábrahámhegyi Triatlon Sprint\, Rövid távú Amatőr Kupa\, Családi verseny
DESCRIPTION:Official Magyar Triatlon Szövetség 2026 domestic race calendar listing for the XV. Ábrahámhegyi Triatlon Sprint\, Rövid távú Amatőr Kupa\, Családi verseny on 29 August 2026. The federation calendar explicitly identifies the amateur cup and family-race format\, so this was imported as an amateur-enterable triathlon event.
LOCATION:Ábrahámhegy\, Veszprém\, Hungary
URL:https://sportplan.vercel.app/da/events/xv-abrahamhegyi-triatlon-sprint-rovid-tavu-amator-kupa-csaladi-verseny-2026-08-29
END:VEVENT
END:VCALENDAR
