BEGIN:VCALENDAR
VERSION:2.0
PRODID:-//SportPlan//Event Calendar//EN
CALSCALE:GREGORIAN
BEGIN:VEVENT
UID:5aa0f156-6a63-4d0e-8a99-1adc7c374d2f@sportplan.local
DTSTAMP:20260426T011818Z
DTSTART;VALUE=DATE:20260510
DTEND;VALUE=DATE:20260511
SUMMARY:Wings for Life World Run Kežmarok 2026
DESCRIPTION:Wings for Life World Run Kežmarok 2026 is an official amateur mass-participation running event in Kežmarok\, Slovakia\, scheduled for 10 May 2026. The official Wings for Life World Run location page presents Kežmarok as a public App Run Event for runners and wheelchair participants\, with a local route from the district office along the cycle path to Turbína and back.
LOCATION:Kežmarok
URL:https://sportplan.vercel.app/da/events/wings-for-life-world-run-kezmarok-2026-kezmarok-2026-05-10
END:VEVENT
END:VCALENDAR
