BEGIN:VCALENDAR
VERSION:2.0
PRODID:-//SportPlan//Event Calendar//EN
CALSCALE:GREGORIAN
BEGIN:VEVENT
UID:41033da6-651a-4065-867f-4e99bdb416a3@sportplan.local
DTSTAMP:20260425T232040Z
DTSTART;VALUE=DATE:20260426
DTEND;VALUE=DATE:20260427
SUMMARY:West Point Lake Olympic\, Sprint and Aquabike
DESCRIPTION:West Point Lake Olympic\, Sprint and Aquabike is an official Georgia Multisports Productions triathlon event in West Point\, Georgia on 26 April 2026. The official organizer site lists the West Point race in its 2026 upcoming-events calendar and presents Olympic\, Sprint and Aquabike participant options for the event weekend.
LOCATION:West Point
URL:https://sportplan.vercel.app/da/events/west-point-lake-olympic-sprint-and-aquabike-west-point-2026-04-26
END:VEVENT
END:VCALENDAR
