BEGIN:VCALENDAR
VERSION:2.0
PRODID:-//SportPlan//Event Calendar//EN
CALSCALE:GREGORIAN
BEGIN:VEVENT
UID:f706c5c9-1abc-4e6d-8afc-cec63b3d67db@sportplan.local
DTSTAMP:20260425T232138Z
DTSTART;VALUE=DATE:20260722
DTEND;VALUE=DATE:20260723
SUMMARY:VIII Valdelinares Trails
DESCRIPTION:VIII Valdelinares Trails se celebra en Valdelinares\, Teruel\, Aragón el 22 de julio de 2026\, reuniendo a corredores en un entorno atractivo y con muy buen ambiente. La prueba ofrece con unos 43 km de recorrido\, bien señalizados y con gran ambiente de carrera\, por lo que es una excelente opción tanto para quienes buscan rendir como para quienes quieren disfrutar de la experiencia.
LOCATION:Valdelinares\, Teruel\, Aragón
URL:https://sportplan.vercel.app/da/events/viii-valdelinares-trails-valdelinares-2026-07-22-43k
END:VEVENT
END:VCALENDAR
