BEGIN:VCALENDAR
VERSION:2.0
PRODID:-//SportPlan//Event Calendar//EN
CALSCALE:GREGORIAN
BEGIN:VEVENT
UID:a39c1103-a5d4-4931-b29d-589396b1086a@sportplan.local
DTSTAMP:20260425T211932Z
DTSTART;VALUE=DATE:20260701
DTEND;VALUE=DATE:20260702
SUMMARY:VIII Trail Navarres
DESCRIPTION:VIII Trail Navarres se celebrará el 1 de julio de 2026 en NAVARRES\, València\, Comunidad Valenciana. Es una buena cita para participantes que buscan una experiencia deportiva bien organizada y un ambiente motivador. El recorrido cubre aproximadamente 21 km. Consulta la información oficial del evento para conocer horarios\, recorridos y detalles logísticos.
LOCATION:NAVARRES\, València\, Comunidad Valenciana
URL:https://sportplan.vercel.app/da/events/viii-trail-navarres-navarres-2026-07-01-21k
END:VEVENT
END:VCALENDAR
