BEGIN:VCALENDAR
VERSION:2.0
PRODID:-//SportPlan//Event Calendar//EN
CALSCALE:GREGORIAN
BEGIN:VEVENT
UID:056b4db1-297c-46d1-ab0a-4f3028a0e3e5@sportplan.local
DTSTAMP:20260425T200404Z
DTSTART;VALUE=DATE:20260307
DTEND;VALUE=DATE:20260308
SUMMARY:VIII Duatló Infantil Solidari 2026 — Alevi
DESCRIPTION:Official Federació Catalana de Triatló competition page and organizer club page confirm VIII Duatló Infantil Solidari SJD Triplay Prat on 7 March 2026 at 11:00 in Parc Nou / Patinòdrom\, El Prat de Llobregat. It is an amateur-enterable youth road duathlon organized by Triplay Prat for children born from 2015 to 2022\, with registrations handled via Sportmaniacs and proceeds supporting Obra Social Sant Joan de Déu.
LOCATION:Prat de Llobregat (El)
URL:https://sportplan.vercel.app/da/events/viii-duatlo-infantil-solidari-2026-alevi-prat-de-llobregat-el-2026-03-07
END:VEVENT
END:VCALENDAR
