BEGIN:VCALENDAR
VERSION:2.0
PRODID:-//SportPlan//Event Calendar//EN
CALSCALE:GREGORIAN
BEGIN:VEVENT
UID:2626caa9-d3ef-4b2a-b524-a6a33e2659e9@sportplan.local
DTSTAMP:20260425T212033Z
DTSTART;VALUE=DATE:20260704
DTEND;VALUE=DATE:20260705
SUMMARY:VIII Anfibios Trail Anna
DESCRIPTION:VIII Anfibios Trail Anna is the official 9 km swimrun-style trail race at the Albufera de Anna on Saturday 4 July 2026\, organised by Trifitness 31. The official page says participants repeatedly alternate running and swimming through the Ruta del Agua\, including a 70-metre crossing of the Lago de Anna\, with four staggered start corrals from 15:30 to 18:30 and same-day chip pickup at the venue.
LOCATION:Anna\, Valencia\, Comunidad Valenciana
URL:https://sportplan.vercel.app/da/events/vii-anfibios-trail-anna-anna-2026-07-01-19k
END:VEVENT
END:VCALENDAR
