BEGIN:VCALENDAR
VERSION:2.0
PRODID:-//SportPlan//Event Calendar//EN
CALSCALE:GREGORIAN
BEGIN:VEVENT
UID:8f64f107-0e8e-4c0d-ad8f-289297ca7a99@sportplan.local
DTSTAMP:20260425T225855Z
DTSTART;VALUE=DATE:20261003
DTEND;VALUE=DATE:20261004
SUMMARY:Vantaan Marathon
DESCRIPTION:Vantaan Marathon is the official Vantaa marathon on Saturday 3 October 2026. The organizer page invites runners to a fast course at Tikkurila Sports Park and lists marathon\, half marathon\, 10 km\, 5 km\, relay\, and children's minimarathon options.
LOCATION:Vantaa\, Finland
URL:https://sportplan.vercel.app/da/events/vantaan-marathon-2026-10-03
END:VEVENT
END:VCALENDAR
