BEGIN:VCALENDAR
VERSION:2.0
PRODID:-//SportPlan//Event Calendar//EN
CALSCALE:GREGORIAN
BEGIN:VEVENT
UID:cc7f7082-edd8-434d-886d-e46a6d7dbf48@sportplan.local
DTSTAMP:20260425T232042Z
DTSTART;VALUE=DATE:20260725
DTEND;VALUE=DATE:20260726
SUMMARY:Valdelinares Trail
DESCRIPTION:Valdelinares Trail se celebrará el 25 de julio de 2026 en Valdelinares\, Teruel. Es una buena opción para quienes buscan un reto bien organizado y una jornada deportiva en un entorno especial. Consulta los detalles del recorrido y prepara tu participación con tiempo para aprovechar mejor la experiencia.
LOCATION:Valdelinares\, Teruel
URL:https://sportplan.vercel.app/da/events/valdelinares-trail-valdelinares-2026-07-25
END:VEVENT
END:VCALENDAR
