BEGIN:VCALENDAR
VERSION:2.0
PRODID:-//SportPlan//Event Calendar//EN
CALSCALE:GREGORIAN
BEGIN:VEVENT
UID:9fb661e5-9362-4242-a374-74aa89a6d29e@sportplan.local
DTSTAMP:20260425T231708Z
DTSTART;VALUE=DATE:20260301
DTEND;VALUE=DATE:20260302
SUMMARY:UTMB Mallorca 20K
DESCRIPTION:UTMB Mallorca 20K 2026 is the official 20 km race entry within the Mallorca by UTMB event program in Spain on 1 March 2026. The official Mallorca by UTMB site is the participant-facing source for course details\, race-week logistics\, and registration guidance.
LOCATION:Mallorca\, Baleares\, Islas Baleares
URL:https://sportplan.vercel.app/da/events/utmb-mallorca-20k-mallorca-2026-03-01-20k
END:VEVENT
END:VCALENDAR
