BEGIN:VCALENDAR
VERSION:2.0
PRODID:-//SportPlan//Event Calendar//EN
CALSCALE:GREGORIAN
BEGIN:VEVENT
UID:650f75d8-2540-4136-8701-9c42a3fc89d6@sportplan.local
DTSTAMP:20260425T214258Z
DTSTART;VALUE=DATE:20260418
DTEND;VALUE=DATE:20260419
SUMMARY:Ultra Trail Muntanyes Costa Daurada
DESCRIPTION:Official Ultra Trail Muntanyes Costa Daurada organizer page for the 2026 family. Naturetime states the event runs on 18 and 19 April 2026 in Prades\, with the marathon-distance course on the Saturday long-course program.
LOCATION:Prades\, Tarragona\, Cataluña
URL:https://sportplan.vercel.app/da/events/ultra-trail-muntanyes-costa-daurada-prades-2026-03-31-44k
END:VEVENT
END:VCALENDAR
