BEGIN:VCALENDAR
VERSION:2.0
PRODID:-//SportPlan//Event Calendar//EN
CALSCALE:GREGORIAN
BEGIN:VEVENT
UID:37aa25df-1735-4030-8da3-0b67f3de0869@sportplan.local
DTSTAMP:20260425T214258Z
DTSTART;VALUE=DATE:20260419
DTEND;VALUE=DATE:20260420
SUMMARY:Ultra Trail Muntanyes Costa Daurada
DESCRIPTION:Official Ultra Trail Muntanyes Costa Daurada organizer page for the 2026 family. Naturetime states the event runs on 18 and 19 April 2026 in Prades\, with the 23 km trail on the Sunday program.
LOCATION:Prades\, Tarragona\, Cataluña
URL:https://sportplan.vercel.app/da/events/ultra-trail-muntanyes-costa-daurada-prades-2026-03-31-23k
END:VEVENT
END:VCALENDAR
